Package: FlowSorted.Blood.EPIC Version: 2.4.2 Command: /home/biocbuild/bbs-3.17-bioc/R/bin/R CMD INSTALL FlowSorted.Blood.EPIC StartedAt: 2023-10-12 10:09:15 -0400 (Thu, 12 Oct 2023) EndedAt: 2023-10-12 10:09:55 -0400 (Thu, 12 Oct 2023) EllapsedTime: 39.9 seconds RetCode: 0 Status: OK