Package: FlowSorted.DLPFC.450k Version: 1.36.0 Command: /home/biocbuild/bbs-3.17-bioc/R/bin/R CMD build --keep-empty-dirs --no-resave-data FlowSorted.DLPFC.450k StartedAt: 2023-10-12 10:27:39 -0400 (Thu, 12 Oct 2023) EndedAt: 2023-10-12 10:29:50 -0400 (Thu, 12 Oct 2023) EllapsedTime: 131.2 seconds RetCode: 0 Status: OK PackageFile: FlowSorted.DLPFC.450k_1.36.0.tar.gz PackageFileSize: 123.7 MiB