Package: FlowSorted.DLPFC.450k Version: 1.36.0 Command: /home/biocbuild/bbs-3.17-bioc/R/bin/R CMD INSTALL FlowSorted.DLPFC.450k StartedAt: 2023-10-12 10:09:01 -0400 (Thu, 12 Oct 2023) EndedAt: 2023-10-12 10:11:02 -0400 (Thu, 12 Oct 2023) EllapsedTime: 120.5 seconds RetCode: 0 Status: OK