Package: GeuvadisTranscriptExpr Version: 1.28.0 Command: /home/biocbuild/bbs-3.17-bioc/R/bin/R CMD check --install=check:GeuvadisTranscriptExpr.install-out.txt --library=/home/biocbuild/bbs-3.17-bioc/R/site-library --timings GeuvadisTranscriptExpr_1.28.0.tar.gz StartedAt: 2023-10-12 11:25:44 -0400 (Thu, 12 Oct 2023) EndedAt: 2023-10-12 11:26:48 -0400 (Thu, 12 Oct 2023) EllapsedTime: 64.5 seconds RetCode: 0 Status: OK CheckDir: GeuvadisTranscriptExpr.Rcheck Warnings: 0