git_url: https://git.bioconductor.org/packages/M3DExampleData git_branch: RELEASE_3_17 git_last_commit: 3a5bd81 git_last_commit_date: 2023-04-25 10:43:25 -0400 (Tue, 25 Apr 2023) Package: M3DExampleData Version: 1.26.0 Maintainer: Tallulah Andrews MaintainerEmail: tallulandrews at gmail.com