Package: M3DExampleData Version: 1.26.0 Command: /home/biocbuild/bbs-3.17-bioc/R/bin/R CMD build --keep-empty-dirs --no-resave-data M3DExampleData StartedAt: 2023-10-12 10:37:10 -0400 (Thu, 12 Oct 2023) EndedAt: 2023-10-12 10:37:11 -0400 (Thu, 12 Oct 2023) EllapsedTime: 1.0 seconds RetCode: 0 Status: OK PackageFile: M3DExampleData_1.26.0.tar.gz PackageFileSize: 2.05 MiB