git_url: https://git.bioconductor.org/packages/MicrobiomeBenchmarkData git_branch: RELEASE_3_17 git_last_commit: 9671b29 git_last_commit_date: 2023-04-25 10:52:03 -0400 (Tue, 25 Apr 2023) Package: MicrobiomeBenchmarkData Version: 1.2.0 Maintainer: Samuel Gamboa MaintainerEmail: Samuel.Gamboa.Tuz at gmail.com