Package: OnassisJavaLibs Version: 1.22.0 Command: /home/biocbuild/bbs-3.17-bioc/R/bin/R CMD check --install=check:OnassisJavaLibs.install-out.txt --library=/home/biocbuild/bbs-3.17-bioc/R/site-library --timings OnassisJavaLibs_1.22.0.tar.gz StartedAt: 2023-10-12 11:48:44 -0400 (Thu, 12 Oct 2023) EndedAt: 2023-10-12 11:49:04 -0400 (Thu, 12 Oct 2023) EllapsedTime: 20.3 seconds RetCode: 0 Status: OK CheckDir: OnassisJavaLibs.Rcheck Warnings: 0