git_url: https://git.bioconductor.org/packages/RegParallel git_branch: RELEASE_3_17 git_last_commit: 722d1aa git_last_commit_date: 2023-04-25 10:46:15 -0400 (Tue, 25 Apr 2023) Package: RegParallel Version: 1.18.0 Maintainer: Kevin Blighe MaintainerEmail: kevin at clinicalbioinformatics.co.uk