Package: RegParallel Version: 1.18.0 Command: /home/biocbuild/bbs-3.17-bioc/R/bin/R CMD build --keep-empty-dirs --no-resave-data RegParallel StartedAt: 2023-10-12 10:46:38 -0400 (Thu, 12 Oct 2023) EndedAt: 2023-10-12 10:52:55 -0400 (Thu, 12 Oct 2023) EllapsedTime: 377.5 seconds RetCode: 0 Status: OK PackageFile: RegParallel_1.18.0.tar.gz PackageFileSize: 568.3 KiB