Package: TCGAWorkflowData Version: 1.24.1 Command: /home/biocbuild/bbs-3.17-bioc/R/bin/R CMD build --keep-empty-dirs --no-resave-data TCGAWorkflowData StartedAt: 2023-10-12 10:53:58 -0400 (Thu, 12 Oct 2023) EndedAt: 2023-10-12 10:56:23 -0400 (Thu, 12 Oct 2023) EllapsedTime: 144.7 seconds RetCode: 0 Status: OK PackageFile: TCGAWorkflowData_1.24.1.tar.gz PackageFileSize: 68.83 MiB