Package: TimerQuant Version: 1.30.0 Command: /home/biocbuild/bbs-3.17-bioc/R/bin/R CMD build --keep-empty-dirs --no-resave-data TimerQuant StartedAt: 2023-10-12 10:54:45 -0400 (Thu, 12 Oct 2023) EndedAt: 2023-10-12 10:55:44 -0400 (Thu, 12 Oct 2023) EllapsedTime: 59.1 seconds RetCode: 0 Status: OK PackageFile: TimerQuant_1.30.0.tar.gz PackageFileSize: 1.749 MiB