Package: TimerQuant Version: 1.30.0 Command: /home/biocbuild/bbs-3.17-bioc/R/bin/R CMD INSTALL TimerQuant StartedAt: 2023-10-12 10:01:48 -0400 (Thu, 12 Oct 2023) EndedAt: 2023-10-12 10:01:53 -0400 (Thu, 12 Oct 2023) EllapsedTime: 4.6 seconds RetCode: 0 Status: OK