git_url: https://git.bioconductor.org/packages/VectraPolarisData git_branch: RELEASE_3_17 git_last_commit: 8197c01 git_last_commit_date: 2023-04-25 10:51:33 -0400 (Tue, 25 Apr 2023) Package: VectraPolarisData Version: 1.4.0 Maintainer: Wrobel Julia MaintainerEmail: julia.wrobel at cuanschutz.edu