Package: VectraPolarisData Version: 1.4.0 Command: /home/biocbuild/bbs-3.17-bioc/R/bin/R CMD build --keep-empty-dirs --no-resave-data VectraPolarisData StartedAt: 2023-10-12 10:55:46 -0400 (Thu, 12 Oct 2023) EndedAt: 2023-10-12 10:57:33 -0400 (Thu, 12 Oct 2023) EllapsedTime: 107.0 seconds RetCode: 0 Status: OK PackageFile: VectraPolarisData_1.4.0.tar.gz PackageFileSize: 311.5 KiB