Package: beadarrayExampleData Version: 1.38.0 Command: /home/biocbuild/bbs-3.17-bioc/R/bin/R CMD check --install=check:beadarrayExampleData.install-out.txt --library=/home/biocbuild/bbs-3.17-bioc/R/site-library --timings beadarrayExampleData_1.38.0.tar.gz StartedAt: 2023-10-12 10:59:40 -0400 (Thu, 12 Oct 2023) EndedAt: 2023-10-12 11:01:23 -0400 (Thu, 12 Oct 2023) EllapsedTime: 103.5 seconds RetCode: 0 Status: OK CheckDir: beadarrayExampleData.Rcheck Warnings: 0