git_url: https://git.bioconductor.org/packages/bladderbatch git_branch: RELEASE_3_17 git_last_commit: 6d2b4c6 git_last_commit_date: 2023-04-25 09:53:41 -0400 (Tue, 25 Apr 2023) Package: bladderbatch Version: 1.38.0 Maintainer: Jeffrey T. Leek MaintainerEmail: jleek at jhsph.edu