git_url: https://git.bioconductor.org/packages/clustifyrdatahub git_branch: RELEASE_3_17 git_last_commit: 6779b16 git_last_commit_date: 2023-04-25 10:48:50 -0400 (Tue, 25 Apr 2023) Package: clustifyrdatahub Version: 1.10.0 Maintainer: Kent Riemondy MaintainerEmail: kent.riemondy at cuanschutz.edu