git_url: https://git.bioconductor.org/packages/frmaExampleData git_branch: RELEASE_3_17 git_last_commit: 4bccd7c git_last_commit_date: 2023-04-25 09:52:11 -0400 (Tue, 25 Apr 2023) Package: frmaExampleData Version: 1.36.0 Maintainer: Matthew N. McCall MaintainerEmail: mmccall at jhsph.edu