Package: imcdatasets Version: 1.8.0 Command: /home/biocbuild/bbs-3.17-bioc/R/bin/R CMD build --keep-empty-dirs --no-resave-data imcdatasets StartedAt: 2023-10-12 10:35:27 -0400 (Thu, 12 Oct 2023) EndedAt: 2023-10-12 10:38:00 -0400 (Thu, 12 Oct 2023) EllapsedTime: 152.7 seconds RetCode: 0 Status: OK PackageFile: imcdatasets_1.8.0.tar.gz PackageFileSize: 1.626 MiB