Package: imcdatasets Version: 1.8.0 Command: /home/biocbuild/bbs-3.17-bioc/R/bin/R CMD INSTALL imcdatasets StartedAt: 2023-10-12 10:10:50 -0400 (Thu, 12 Oct 2023) EndedAt: 2023-10-12 10:11:40 -0400 (Thu, 12 Oct 2023) EllapsedTime: 49.6 seconds RetCode: 0 Status: OK