Package: mosaicsExample Version: 1.38.0 Command: /home/biocbuild/bbs-3.17-bioc/R/bin/R CMD build --keep-empty-dirs --no-resave-data mosaicsExample StartedAt: 2023-10-12 10:40:59 -0400 (Thu, 12 Oct 2023) EndedAt: 2023-10-12 10:41:17 -0400 (Thu, 12 Oct 2023) EllapsedTime: 18.2 seconds RetCode: 0 Status: OK PackageFile: mosaicsExample_1.38.0.tar.gz PackageFileSize: 48.06 MiB