Package: sampleClassifierData Version: 1.24.0 Command: /home/biocbuild/bbs-3.17-bioc/R/bin/R CMD build --keep-empty-dirs --no-resave-data sampleClassifierData StartedAt: 2023-10-12 10:48:44 -0400 (Thu, 12 Oct 2023) EndedAt: 2023-10-12 10:49:08 -0400 (Thu, 12 Oct 2023) EllapsedTime: 23.7 seconds RetCode: 0 Status: OK PackageFile: sampleClassifierData_1.24.0.tar.gz PackageFileSize: 15.51 MiB