Package: sampleClassifierData Version: 1.24.0 Command: /home/biocbuild/bbs-3.17-bioc/R/bin/R CMD INSTALL sampleClassifierData StartedAt: 2023-10-12 10:06:34 -0400 (Thu, 12 Oct 2023) EndedAt: 2023-10-12 10:06:47 -0400 (Thu, 12 Oct 2023) EllapsedTime: 12.4 seconds RetCode: 0 Status: OK