git_url: https://git.bioconductor.org/packages/spatialLIBD git_branch: RELEASE_3_17 git_last_commit: 5eacc61 git_last_commit_date: 2023-04-25 10:48:31 -0400 (Tue, 25 Apr 2023) Package: spatialLIBD Version: 1.12.0 Maintainer: Leonardo Collado-Torres MaintainerEmail: lcolladotor at gmail.com