Package: AffymetrixDataTestFiles Version: 0.40.0 Maintainer: Henrik Bengtsson MaintainerEmail: henrikb at braju.com git_url: https://git.bioconductor.org/packages/AffymetrixDataTestFiles git_branch: RELEASE_3_18 git_last_commit: 6b95627 git_last_commit_date: 2023-10-24 08:53:03 -0400 (Tue, 24 Oct 2023)