Package: Affymoe4302Expr Version: 1.40.0 Command: /home/biocbuild/bbs-3.18-bioc/R/bin/R CMD build --keep-empty-dirs --no-resave-data Affymoe4302Expr StartedAt: 2024-04-16 10:14:32 -0400 (Tue, 16 Apr 2024) EndedAt: 2024-04-16 10:15:04 -0400 (Tue, 16 Apr 2024) EllapsedTime: 32.7 seconds RetCode: 0 Status: OK PackageFile: Affymoe4302Expr_1.40.0.tar.gz PackageFileSize: 417.6 MiB