Package: BeadSorted.Saliva.EPIC Version: 1.10.0 Command: /home/biocbuild/bbs-3.18-bioc/R/bin/R CMD build --keep-empty-dirs --no-resave-data BeadSorted.Saliva.EPIC StartedAt: 2024-04-16 10:14:58 -0400 (Tue, 16 Apr 2024) EndedAt: 2024-04-16 10:15:43 -0400 (Tue, 16 Apr 2024) EllapsedTime: 45.7 seconds RetCode: 0 Status: OK PackageFile: BeadSorted.Saliva.EPIC_1.10.0.tar.gz PackageFileSize: 13.48 KiB