Package: FlowSorted.CordBlood.450k Version: 1.30.0 Maintainer: Shan V. Andrews MaintainerEmail: sandre17 at jhu.edu git_url: https://git.bioconductor.org/packages/FlowSorted.CordBlood.450k git_branch: RELEASE_3_18 git_last_commit: 260dcd8 git_last_commit_date: 2023-10-24 09:13:35 -0400 (Tue, 24 Oct 2023)