Package: KEGGandMetacoreDzPathwaysGEO Version: 1.22.0 Command: /home/biocbuild/bbs-3.18-bioc/R/bin/R CMD build --keep-empty-dirs --no-resave-data KEGGandMetacoreDzPathwaysGEO StartedAt: 2024-04-16 10:37:25 -0400 (Tue, 16 Apr 2024) EndedAt: 2024-04-16 10:37:37 -0400 (Tue, 16 Apr 2024) EllapsedTime: 11.3 seconds RetCode: 0 Status: OK PackageFile: KEGGandMetacoreDzPathwaysGEO_1.22.0.tar.gz PackageFileSize: 98.57 MiB