Package: TMExplorer Version: 1.12.0 Command: /home/biocbuild/bbs-3.18-bioc/R/bin/R CMD build --keep-empty-dirs --no-resave-data TMExplorer StartedAt: 2024-04-16 10:57:28 -0400 (Tue, 16 Apr 2024) EndedAt: 2024-04-16 10:58:21 -0400 (Tue, 16 Apr 2024) EllapsedTime: 52.6 seconds RetCode: 0 Status: OK PackageFile: TMExplorer_1.12.0.tar.gz PackageFileSize: 233.1 KiB