Package: depmap Version: 1.16.0 Command: /home/biocbuild/bbs-3.18-bioc/R/bin/R CMD build --keep-empty-dirs --no-resave-data depmap StartedAt: 2024-04-16 10:23:29 -0400 (Tue, 16 Apr 2024) EndedAt: 2024-04-16 10:38:03 -0400 (Tue, 16 Apr 2024) EllapsedTime: 874.0 seconds RetCode: 0 Status: OK PackageFile: depmap_1.16.0.tar.gz PackageFileSize: 1.344 MiB