Package: maqcExpression4plex Version: 1.46.0 Command: /home/biocbuild/bbs-3.18-bioc/R/bin/R CMD build --keep-empty-dirs --no-resave-data maqcExpression4plex StartedAt: 2024-04-16 10:39:01 -0400 (Tue, 16 Apr 2024) EndedAt: 2024-04-16 10:39:06 -0400 (Tue, 16 Apr 2024) EllapsedTime: 5.0 seconds RetCode: 0 Status: OK PackageFile: maqcExpression4plex_1.46.0.tar.gz PackageFileSize: 6.578 MiB