Package: msd16s Version: 1.22.0 Command: /home/biocbuild/bbs-3.18-bioc/R/bin/R CMD build --keep-empty-dirs --no-resave-data msd16s StartedAt: 2024-04-16 10:42:33 -0400 (Tue, 16 Apr 2024) EndedAt: 2024-04-16 10:42:47 -0400 (Tue, 16 Apr 2024) EllapsedTime: 13.6 seconds RetCode: 0 Status: OK PackageFile: msd16s_1.22.0.tar.gz PackageFileSize: 1.735 MiB