Package: msd16s Version: 1.22.0 Command: /home/biocbuild/bbs-3.18-bioc/R/bin/R CMD INSTALL msd16s StartedAt: 2024-04-16 10:01:59 -0400 (Tue, 16 Apr 2024) EndedAt: 2024-04-16 10:02:09 -0400 (Tue, 16 Apr 2024) EllapsedTime: 9.8 seconds RetCode: 0 Status: OK