Package: timecoursedata Version: 1.12.0 Command: /home/biocbuild/bbs-3.18-bioc/R/bin/R CMD build --keep-empty-dirs --no-resave-data timecoursedata StartedAt: 2024-04-16 10:56:31 -0400 (Tue, 16 Apr 2024) EndedAt: 2024-04-16 10:57:16 -0400 (Tue, 16 Apr 2024) EllapsedTime: 44.4 seconds RetCode: 0 Status: OK PackageFile: timecoursedata_1.12.0.tar.gz PackageFileSize: 44.87 MiB