Package: ASAFE Version: 1.30.0 Command: /Library/Frameworks/R.framework/Resources/bin/R CMD build --keep-empty-dirs --no-resave-data ASAFE StartedAt: 2024-10-16 17:05:28 -0400 (Wed, 16 Oct 2024) EndedAt: 2024-10-16 17:05:47 -0400 (Wed, 16 Oct 2024) EllapsedTime: 19.0 seconds RetCode: 0 Status: OK PackageFile: ASAFE_1.30.0.tar.gz PackageFileSize: 426.3 KiB