Package: BasicSTARRseq Version: 1.32.0 Maintainer: Annika Buerger MaintainerEmail: annika.buerger at ukmuenster.de git_url: https://git.bioconductor.org/packages/BasicSTARRseq git_branch: RELEASE_3_19 git_last_commit: 898c66e git_last_commit_date: 2024-04-30 10:48:02 -0400 (Tue, 30 Apr 2024)