Package: CRISPRball Version: 1.0.0 Maintainer: Jared Andrews MaintainerEmail: jared.andrews07 at gmail.com git_url: https://git.bioconductor.org/packages/CRISPRball git_branch: RELEASE_3_19 git_last_commit: 6d0b333 git_last_commit_date: 2024-04-30 11:53:28 -0400 (Tue, 30 Apr 2024)