Package: CRISPRball Version: 1.0.0 Command: E:\biocbuild\bbs-3.19-bioc\R\bin\R.exe CMD check --no-multiarch --install=check:CRISPRball.install-out.txt --library=E:\biocbuild\bbs-3.19-bioc\R\library --no-vignettes --timings CRISPRball_1.0.0.tar.gz StartedAt: 2024-10-17 00:23:26 -0400 (Thu, 17 Oct 2024) EndedAt: 2024-10-17 00:30:39 -0400 (Thu, 17 Oct 2024) EllapsedTime: 433.0 seconds RetCode: 0 Status: OK CheckDir: CRISPRball.Rcheck Warnings: 0