Package: Cardinal Version: 3.6.5 Command: /Library/Frameworks/R.framework/Resources/bin/R CMD INSTALL Cardinal StartedAt: 2024-10-16 17:12:54 -0400 (Wed, 16 Oct 2024) EndedAt: 2024-10-16 17:13:23 -0400 (Wed, 16 Oct 2024) EllapsedTime: 28.9 seconds RetCode: 0 Status: OK