Package: DelayedMatrixStats Version: 1.26.0 Command: rm -rf DelayedMatrixStats.buildbin-libdir && mkdir DelayedMatrixStats.buildbin-libdir && E:\biocbuild\bbs-3.19-bioc\R\bin\R.exe CMD INSTALL --build --library=DelayedMatrixStats.buildbin-libdir DelayedMatrixStats_1.26.0.tar.gz StartedAt: 2024-10-17 07:40:07 -0400 (Thu, 17 Oct 2024) EndedAt: 2024-10-17 07:43:21 -0400 (Thu, 17 Oct 2024) EllapsedTime: 193.8 seconds RetCode: 0 Status: OK PackageFile: DelayedMatrixStats_1.26.0.zip PackageFileSize: 721.1 KiB