Package: EventPointer Version: 3.12.0 Command: /Library/Frameworks/R.framework/Resources/bin/R CMD check --install=check:EventPointer.install-out.txt --library=/Library/Frameworks/R.framework/Resources/library --no-vignettes --timings EventPointer_3.12.0.tar.gz StartedAt: 2024-10-17 21:16:52 -0400 (Thu, 17 Oct 2024) EndedAt: 2024-10-17 21:23:30 -0400 (Thu, 17 Oct 2024) EllapsedTime: 397.9 seconds RetCode: 0 Status: OK CheckDir: EventPointer.Rcheck Warnings: 0