Package: EventPointer Version: 3.12.0 Command: /Library/Frameworks/R.framework/Resources/bin/R CMD build --keep-empty-dirs --no-resave-data EventPointer StartedAt: 2024-10-16 19:08:52 -0400 (Wed, 16 Oct 2024) EndedAt: 2024-10-16 19:12:19 -0400 (Wed, 16 Oct 2024) EllapsedTime: 207.1 seconds RetCode: 0 Status: OK PackageFile: EventPointer_3.12.0.tar.gz PackageFileSize: 1.642 MiB