Package: GenomicOZone Version: 1.18.0 Command: chmod a+r GenomicOZone -R && E:\biocbuild\bbs-3.19-bioc\R\bin\R.exe CMD build --keep-empty-dirs --no-resave-data GenomicOZone StartedAt: 2024-10-16 19:23:24 -0400 (Wed, 16 Oct 2024) EndedAt: 2024-10-16 19:26:04 -0400 (Wed, 16 Oct 2024) EllapsedTime: 160.0 seconds RetCode: 0 Status: OK PackageFile: GenomicOZone_1.18.0.tar.gz PackageFileSize: 1.275 MiB