Package: HilbertCurve Version: 1.34.0 Command: /Library/Frameworks/R.framework/Resources/bin/R CMD build --keep-empty-dirs --no-resave-data HilbertCurve StartedAt: 2024-06-09 16:57:13 -0400 (Sun, 09 Jun 2024) EndedAt: 2024-06-09 16:59:27 -0400 (Sun, 09 Jun 2024) EllapsedTime: 133.9 seconds RetCode: 0 Status: OK PackageFile: HilbertCurve_1.34.0.tar.gz PackageFileSize: 11.49 MiB