Package: LRBaseDbi Version: 2.14.0 Command: rm -rf LRBaseDbi.buildbin-libdir && mkdir LRBaseDbi.buildbin-libdir && /Users/biocbuild/BBS/utils/build-universal.sh LRBaseDbi_2.14.0.tar.gz /Library/Frameworks/R.framework/Resources/bin/R LRBaseDbi.buildbin-libdir StartedAt: 2024-10-18 19:11:03 -0400 (Fri, 18 Oct 2024) EndedAt: 2024-10-18 19:11:22 -0400 (Fri, 18 Oct 2024) EllapsedTime: 18.9 seconds RetCode: 0 Status: OK PackageFile: LRBaseDbi_2.14.0.tgz PackageFileSize: 568.7 KiB