Package: LRBaseDbi Version: 2.14.0 Command: /Library/Frameworks/R.framework/Resources/bin/R CMD check --install=check:LRBaseDbi.install-out.txt --library=/Library/Frameworks/R.framework/Resources/library --no-vignettes --timings LRBaseDbi_2.14.0.tar.gz StartedAt: 2024-10-18 02:15:30 -0400 (Fri, 18 Oct 2024) EndedAt: 2024-10-18 02:17:35 -0400 (Fri, 18 Oct 2024) EllapsedTime: 125.6 seconds RetCode: 0 Status: OK CheckDir: LRBaseDbi.Rcheck Warnings: 0