Package: LinkHD Version: 1.18.0 Command: /Library/Frameworks/R.framework/Resources/bin/R CMD build --keep-empty-dirs --no-resave-data LinkHD StartedAt: 2024-10-16 20:24:16 -0400 (Wed, 16 Oct 2024) EndedAt: 2024-10-16 20:26:41 -0400 (Wed, 16 Oct 2024) EllapsedTime: 145.2 seconds RetCode: 0 Status: OK PackageFile: LinkHD_1.18.0.tar.gz PackageFileSize: 2.371 MiB