Package: MCbiclust Version: 1.28.0 Command: rm -rf MCbiclust.buildbin-libdir && mkdir MCbiclust.buildbin-libdir && E:\biocbuild\bbs-3.19-bioc\R\bin\R.exe CMD INSTALL --build --library=MCbiclust.buildbin-libdir MCbiclust_1.28.0.tar.gz StartedAt: 2024-10-17 08:05:26 -0400 (Thu, 17 Oct 2024) EndedAt: 2024-10-17 08:05:52 -0400 (Thu, 17 Oct 2024) EllapsedTime: 26.8 seconds RetCode: 0 Status: OK PackageFile: MCbiclust_1.28.0.zip PackageFileSize: 5.102 MiB